Workbook

Sheet I (UNO)
A1: 9 | B1: CATEGORIAS | C1: POR MES | D1: POR MES | E1: POR MES | F1: POR MES | H1: POR MES | M1: POR MES
C2: Febrero | D2: Marzo | E2: Abril | F2: Mayo | H2: Junio | M2: 45689
C3: N.R | D3: N.R | E3: N.R | F3: BÁSICO | G3: N.R | H3: BÁSICO | I3: N.R | M3: BÁSICO
B4: TALLERES DE POMPA DE SASTRERIAS PARA HOMBRES, SENORAS Y NINOS TALLERES INTERNOS DE SASTRERIA A MEDIDA PARA HOMBRES Y NIÑOS.
B5: TALLERES DE POMPA DE SASTRERIA PARA HOMBRES.
A6: 1 | B6: POMPIER | C6: =M6*0.05 -> 43408.81 | D6: =+M6*0.075 -> 65113.215 | E6: =+M6*0.105 -> 91158.501 | F6: =+M6*1.04 -> 902903.25 | G6: =F6*0.075 -> 67717.744 | H6: =F6*1.045 -> 943533.9 | I6: =H6*0.055 -> 51894.364 | M6: 868176.2
B7: Es el trabajador que realiza todas las tareas correspondientes a los arreglos y o composturas.
B8: NOTA: Posee todos los conocimientos necesarios para desarmar y armar un prenda completa. ( Sacos, Gabanes, Sobretodos Etc. )
A9: 2 | B9: PANTALONERO | C9: =M9*0.05 -> 41321.295 | D9: =+M9*0.075 -> 61981.943 | E9: =+M9*0.105 -> 86774.72 | F9: =+M9*1.04 -> 859482.94 | G9: =F9*0.075 -> 64461.22 | H9: =F9*1.045 -> 898159.67 | I9: =H9*0.055 -> 49398.782 | M9: 826425.9
B10: Es el trabajador que dirige o marca o realiza composturas.
A11: 3 | B11: PLANCHADOR A MANO O A MAQUINA | C11: =M11*0.05 -> 38202.805 | D11: =+M11*0.075 -> 57304.208 | E11: =+M11*0.105 -> 80225.891 | F11: =+M11*1.04 -> 794618.34 | G11: =F11*0.075 -> 59596.376 | H11: =F11*1.045 -> 830376.17 | I11: =H11*0.055 -> 45670.689 | M11: 764056.1
B12: Deberá conocer y realizar eventualmente cualquiera de las siguientes tareas:
B13: Plancha la prenda completa: o sea mangas delanteros espalda, sisas internas y externas, solapas, cuellos y hombros con plancha específica. Cintura y piernas con plancha universal.Plancha delanteros y cuellos en máquina universal.
A14: 4 | B14: COSTURERA POMPIERA CALIFICADA | C14: =M14*0.05 -> 37095.038 | D14: =+M14*0.075 -> 55642.557 | E14: =+M14*0.105 -> 77899.579 | F14: =+M14*1.04 -> 771576.79 | G14: =F14*0.075 -> 57868.259 | H14: =F14*1.045 -> 806297.74 | I14: =H14*0.055 -> 44346.376 | M14: 741900.76
B15: Es la trabajadora que realiza habitualmente cualquiera de las siguientes tareas:
B16: Hace todos los arreglos de chalecos y/o pantalones.
B17: Hace ojales.
B18: Realiza tareas de costados y/u hombros y/o cuellos - Trabaja a máquina exclusivamente.
A19: 5 | B19: POMPIERA ALISTADORA CALIFICADA | C19: =M19*0.05 -> 35545.41 | D19: =+M19*0.075 -> 53318.115 | E19: =+M19*0.105 -> 74645.361 | F19: =+M19*1.04 -> 739344.53 | G19: =F19*0.075 -> 55450.84 | H19: =F19*1.045 -> 772615.04 | I19: =H19*0.055 -> 42493.827 | M19: 710908.2
B20: Es la trabajadora que realiza habitualmente cualquiera de las siguientes tareas:
B21: Coloca aros y/o rombos y/o bocamangas con o sin galones.
B22: Arma accesórios y/u hombreras.
B23: Coloca galones y/o ginetas.
B24: Hace accesórios y/o galones y/o ginetas y/u hombreras.
A25: 6 | B25: COSTURERA POMPIERA | C25: =M25*0.05 -> 35545.41 | D25: =+M25*0.075 -> 53318.115 | E25: =+M25*0.105 -> 74645.361 | F25: =+M25*1.04 -> 739344.53 | G25: =F25*0.075 -> 55450.84 | H25: =F25*1.045 -> 772615.04 | I25: =H25*0.055 -> 42493.827 | M25: 710908.2
B26: Es la trabajadora que realiza habitualmente cualquiera de las siguientes tareas.
B27: Acorta mangas y/o sacos
B28: Alarga mangas y/o sacos
B29: Hace bajos de pantalones y/o forrados en general
B30: Pone pruebas
A31: 7 | B31: MARCADOR DE COMPOSTURAS | C31: =M31*0.05 -> 40283.941 | D31: =+M31*0.075 -> 60425.912 | E31: =+M31*0.105 -> 84596.276 | F31: =+M31*1.04 -> 837905.98 | G31: =F31*0.075 -> 62842.948 | H31: =F31*1.045 -> 875611.74 | I31: =H31*0.055 -> 48158.646 | M31: 805678.82
B32: Es el trabajador que marca todas las composturas para ser realizadas por otros trabajadores.
A33: 8 | B33: REVISADOR DE COMPOSTURAS | C33: =M33*0.05 -> 39240.159 | D33: =+M33*0.075 -> 58860.239 | E33: =+M33*0.105 -> 82404.334 | F33: =+M33*1.04 -> 816195.31 | G33: =F33*0.075 -> 61214.648 | H33: =F33*1.045 -> 852924.1 | I33: =H33*0.055 -> 46910.825 | M33: 784803.18
B34: Es el trabajador que revisa las composturas después de realizadas.
A35: 9 | B35: POMPIER PROBADOR Y MARCADOR | C35: =M35*0.05 -> 46546.486 | D35: =+M35*0.075 -> 69819.729 | E35: =+M35*0.105 -> 97747.621 | F35: =+M35*1.04 -> 968166.91 | G35: =F35*0.075 -> 72612.518 | H35: =F35*1.045 -> 1011734.4 | I35: =H35*0.055 -> 55645.393 | M35: 930929.72
B36: Es el trabajador que realiza y marca todas las tareas correspondientes a los arreglos y/o composturas.
B37: NOTA: Es el trabajador que posee todos los conocimientos del punto 1.
A38: 10 | B38: Para el caso en que dichas funciones se realicen en reemplazo del que siempre las efectúa, el salario será proporcional al del titular, por el tiempo trabajado.
B39: TALLERES DE POMPA DE SASTRERIA PARA SEÑORAS Y NIÑOS
A40: 11 | B40: Los trabajadores de esta especialidad, ganarán los mismos sueldos que los fijados para la pompa de hombres, detallados en el presente Capítulo, Incisos 1 al 10.
...

Sheet II (DOS)
A1: ITEM | B1: CATEGORIAS | C1: POR MES | D1: POR MES | E1: POR MES | F1: POR MES | H1: POR MES | L1: POR MES
C2: Febrero | D2: Marzo | E2: Abril | F2: Mayo | H2: Junio | L2: 45778
C3: N.R | D3: N.R | E3: N.R | F3: BÁSICO | G3: N.R | H3: BÁSICO | I3: N.R | L3: BÁSICO
B4: CASAS DE MODA, TIENDAS, CASAS DE MODELOS, MODISTAS EN GENERAL Y SOMBREROS PARA SEÑORAS, SEÑORITAS Y NIÑAS.
A5: 1 | B5: MEDIO OFICIAL | C5: =+L5*0.05 -> 31959.47 | D5: =+L5*0.075 -> 47939.205 | E5: =+L5*0.105 -> 67114.888 | F5: =+L5*1.04 -> 664756.98 | G5: =+F5*0.075 -> 49856.774 | H5: =+F5*1.045 -> 694671.05 | I5: =+H5*0.055 -> 38206.908 | L5: 639189.41
B6: Hace bolsillos sencillos y/o cinturones y/o cuellos sencillos y/o dobladillos y/o mangas sencillas y/u ojales militares y/o terminaciones de polleras.
A7: 2 | B7: OFICIAL | C7: =+L7*0.05 -> 33662.78 | D7: =+L7*0.075 -> 50494.17 | E7: =+L7*0.105 -> 70691.838 | F7: =+L7*1.04 -> 700185.83 | G7: =+F7*0.075 -> 52513.937 | H7: =+F7*1.045 -> 731694.19 | I7: =+H7*0.055 -> 40243.18 | L7: 673255.6
B8: Confecciona vestidos y/o blusas.
B9: Recorta drapeado y sus partes principales.
A10: 3 | B10: OFICIAL CALIFICADO | C10: =+L10*0.05 -> 36525.109 | D10: =+L10*0.075 -> 54787.663 | E10: =+L10*0.105 -> 76702.729 | F10: =+L10*1.04 -> 759722.27 | G10: =+F10*0.075 -> 56979.17 | H10: =+F10*1.045 -> 793909.77 | I10: =+H10*0.055 -> 43665.037 | L10: 730502.18
B11: Confecciona un vestido o demás prendas propias de la modistería.
A12: 4 | B12: PRIMERA DE MESA. | C12: =+L12*0.05 -> 41583.811 | D12: =+L12*0.075 -> 62375.716 | E12: =+L12*0.105 -> 87326.003 | F12: =+L12*1.04 -> 864943.27 | G12: =+F12*0.075 -> 64870.745 | H12: =+F12*1.045 -> 903865.71 | I12: =+H12*0.055 -> 49712.614 | L12: 831676.22
B13: Responsable del trabajo de mesa que dirige, siendo la encargada del modelado y el armado de las prendas, pudiendo participar en la confección de las partes principales de la misma y orientando dentro de su especialidad al personal, de acuerdo a la modalidad de cada casa, su salario percibirá un adicional no inferior a un 30% del que fija en el inciso 4.
B14: NOTA: Para los incisos 3, 4 y 5 las trabajadoras que se dediquen a la confección de trajes de novia y/o gala, largos o cortos, percibirán un adicional salarial del 20% sobre el total de los salarios percibidos.
A15: 5 | B15: PLANCHADORA A MAQUINA O A MANO | C15: =+L15*0.05 -> 36525.109 | D15: =+L15*0.075 -> 54787.663 | E15: =+L15*0.105 -> 76702.729 | F15: =+L15*1.04 -> 759722.27 | G15: =+F15*0.075 -> 56979.17 | H15: =+F15*1.045 -> 793909.77 | I15: =+H15*0.055 -> 43665.037 | L15: 730502.18
A16: 6 | B16: En las casas de Modas o Modelos, Tiendas, que se dediquen preferentemente o con exclusividad a la confección de blusas o polleras, las trabajadoras que confeccionen las mismas se calificarán en la categoría de Oficiales Calificados de Moda o Modista.
A17: 7 | B17: El personal que por disposición del empleador concurra a presentar su aporte profesional en desfiles de modas, vestir novias o acompañantes y/o concurra al templo, percibir por dicha tarea una bonificación equivalente al 100% de su salario básico diario,
B19: SASTRERIAS PARA SEÑORAS Y NIÑAS, CLASICOS Y FANTASIAS, TAPADOS Y TAILLEURS.
A20: 8 | B20: MEDIO OFICIAL | C20: =+L20*0.05 -> 32401.306 | D20: =+L20*0.075 -> 48601.959 | E20: =+L20*0.105 -> 68042.743 | F20: =+L20*1.04 -> 673947.17 | G20: =+F20*0.075 -> 50546.038 | H20: =+F20*1.045 -> 704274.79 | I20: =+H20*0.055 -> 38735.114 | L20: 648026.13
B21: Hace hombreras y/o mangas y/o vistas.
B22: Pica cuellos y/o solapas. Hace ojales militares
A23: 9 | B23: OFICIAL | C23: =+L23*0.05 -> 33662.78 | D23: =+L23*0.075 -> 50494.17 | E23: =+L23*0.105 -> 70691.838 | F23: =+L23*1.04 -> 700185.83 | G23: =+F23*0.075 -> 52513.937 | H23: =+F23*1.045 -> 731694.19 | I23: =+H23*0.055 -> 40243.18 | L23: 673255.6
B24: Hace la prenda hasta dejarla falta de mangas y cuellos. Hace bolsillos.
B25: NOTA: Los operarios que habitualmente coloquen mangas, cuellos, percibirán el salario del Oficial Calificado.
A26: 10 | B26: OFICIAL CALIFICADO | C26: =+L26*0.05 -> 36525.109 | D26: =+L26*0.075 -> 54787.663 | E26: =+L26*0.105 -> 76702.729 | F26: =+L26*1.04 -> 759722.27 | G26: =+F26*0.075 -> 56979.17 | H26: =+F26*1.045 -> 793909.77 | I26: =+H26*0.055 -> 43665.037 | L26: 730502.18
B27: Hace cualquier prenda completa.
A28: 11 | B28: PRIMER OFICIAL DE MESA . | C28: =+L28*0.05 -> 40540.053 | D28: =+L28*0.075 -> 60810.08 | E28: =+L28*0.105 -> 85134.112 | F28: =+L28*1.04 -> 843233.11 | G28: =+F28*0.075 -> 63242.483 | H28: =+F28*1.045 -> 881178.6 | I28: =+H28*0.055 -> 48464.823 | L28: 810801.07
B29: Responsable del trabajo de mesa que dirige, estando a su cargo el armado de las prendas, Tendrá Oficial Calificado, Oficial y Medio Oficial, con un máximo de diez trabajadores.
A30: 12 | B30: OFICIALA POLLERISTA | C30: =+L30*0.05 -> 35839.943 | D30: =+L30*0.075 -> 53759.914 | E30: =+L30*0.105 -> 75263.88 | F30: =+L30*1.04 -> 745470.81 | G30: =+F30*0.075 -> 55910.311 | H30: =+F30*1.045 -> 779017 | I30: =+H30*0.055 -> 42845.935 | L30: 716798.86
B31: Confecciona polleras.
A32: 13 | B32: MEDIO OFICIALA POLLERISTA . | C32: =+L32*0.05 -> 32401.306 | D32: =+L32*0.075 -> 48601.959 | E32: =+L32*0.105 -> 68042.743 | F32: =+L32*1.04 -> 673947.17 | G32: =+F32*0.075 -> 50546.038 | H32: =+F32*1.045 -> 704274.79 | I32: =+H32*0.055 -> 38735.114 | L32: 648026.13
B33: Hace terminaciones.
A34: 14 | B34: OFICIALA CALIFICADA BRECHERA | C34: =+L34*0.05 -> 36525.109 | D34: =+L34*0.075 -> 54787.663 | E34: =+L34*0.105 -> 76702.729 | F34: =+L34*1.04 -> 759722.27 | G34: =+F34*0.075 -> 56979.17 | H34: =+F34*1.045 -> 793909.77 | I34: =+H34*0.055 -> 43665.037 | L34: 730502.18
A35: 15 | B35: PLANCHADORA A MANO O A MAQUINA. | C35: =+L35*0.05 -> 36525.109 | D35: =+L35*0.075 -> 54787.663 | E35: =+L35*0.105 -> 76702.729 | F35: =+L35*1.04 -> 759722.27 | G35: =+F35*0.075 -> 56979.17 | H35: =+F35*1.045 -> 793909.77 | I35: =+H35*0.055 -> 43665.037 | L35: 730502.18
A36: 16 | B36: POMPIER/A | C36: =+L36*0.05 -> 36525.109 | D36: =+L36*0.075 -> 54787.663 | E36: =+L36*0.105 -> 76702.729 | F36: =+L36*1.04 -> 759722.27 | G36: =+F36*0.075 -> 56979.17 | H36: =+F36*1.045 -> 793909.77 | I36: =+H36*0.055 -> 43665.037 | L36: 730502.18
B39: REFORMA DE VESTIDOS Y COMPOSTURAS DE MEDIDA Y CONFECCION PARA SEÑORAS Y NIÑAS.
A41: 17 | B41: OFICIALA CALIFICADA . | C41: =+L41*0.05 -> 36525.109 | D41: =+L41*0.075 -> 54787.663 | E41: =+L41*0.105 -> 76702.729 | F41: =+L41*1.04 -> 759722.27 | G41: =+F41*0.075 -> 56979.17 | H41: =+F41*1.045 -> 793909.77 | I41: =+H41*0.055 -> 43665.037 | L41: 730502.18
B42: Marca composturas y/o las reformas.
B43: Realiza una de las dos tareas.
A44: 18 | B44: MEDIO OFICIAL | C44: =+L44*0.05 -> 32401.306 | D44: =+L44*0.075 -> 48601.959 | E44: =+L44*0.105 -> 68042.743 | F44: =+L44*1.04 -> 673947.17 | G44: =+F44*0.075 -> 50546.038 | H44: =+F44*1.045 -> 704274.79 | I44: =+H44*0.055 -> 38735.114 | L44: 648026.13
...

Sheet III (TRES)
A1: ITEM | B1: CATEGORIAS | C1: POR DIA | D1: POR HORA | E1: POR DIA | F1: POR HORA | G1: POR DIA | H1: POR HORA | I1: POR DIA | K1: POR HORA | M1: POR DIA | O1: POR HORA | R1: POR DIA
C2: ='I (UNO)'!C2 -> Febrero | E2: Marzo | G2: Abril | I2: ='I (UNO)'!F2 -> Mayo | M2: ='I (UNO)'!H2 -> Junio | R2: 45658
C3: N.R. | D3: N.R. | E3: N.R. | F3: N.R. | G3: N.R. | H3: N.R. | I3: BÁSICO | J3: N.R | K3: BÁSICO | L3: N.R | M3: BÁSICO | N3: N.R | O3: BÁSICO | P3: N.R | R3: BÁSICO
B4: CONFECCION DE PRENDAS STANDARD Y DE MEDIDA, EN RUEDA PARA HOMBRES Y NIÑOS EN GENERAL, DE SACOS, GABANES, SOBRETODOS, PERRAMUS, PANTALONES, CHALECOS, PILOTOS, IMPERMEABLES Y UNIFORMES EN GENERAL, CUALQUIERA FUERE EL MATERIAL EMPLEADO EN SU CONFECCION.
B5: NOTA: Exceptúase las prendas confeccionadas en materiales previstos en otros capítulos.
B6: DESCRIPCION DE TAREAS Y JORNALES PARA LAS EMPRESAS QUE CONFECCIONAN SACOS, SOBRETODOS, GABANES, PERRAMUS, PILOTOS E IMPERMEABLES.
B7: TRABAJO A MAQUINA
A8: 1 | B8: OFICIAL CALIFICADO ESPECIALIZADO | C8: =+R8*0.05 -> 1423.6331 | D8: =C8/8 -> 177.95414 | E8: =+R8*0.075 -> 2135.4497 | F8: =E8/8 -> 266.93121 | G8: =+R8*0.105 -> 2989.6295 | H8: =G8/8 -> 373.70369 | I8: =+R8*1.04 -> 29611.569 | J8: =+I8*0.075 -> 2220.8677 | K8: =I8*8% -> 2368.9255 | L8: =J8*8% -> 177.66941 | M8: =+I8*1.045 -> 30944.089 | N8: =+M8*0.055 -> 1701.9249 | O8: =M8*8% -> 2475.5271 | P8: =N8*8% -> 136.15399 | R8: 28472.662
B9: Deberá conocer y realizar eventualmente cualquiera de las siguientes tareas:
B10: Atraca la sisa, fijándola
B11: Colocar cuellos sin hilvanar y/o mangas sin hilvanar y/o tapa cuello sin hilvanar en cuello pegado.
B12: Coser canto de delantero colocándole pasamano al mismo tiempo.
B13: Coser hombros en género sin hilvanar y/o mangas hilvanadas colocando el chorizo al mismo tiempo.
B14: Encuarta delantero.
B15: Hilvanar sisas.
B16: Coloca chorizo en manga cosida o suelta y/u hombreras.
B17: Atraca sisas hilvanadas. SUELTAS
B18: NO se hacen más ojales militares en máquina común, por lo tanto no corresponde esta operación.
A19: a) | B19: BOLSILLERO | C19: =+R19*0.05 -> 1423.6331 | D19: =C19/8 -> 177.95414 | E19: =+R19*0.075 -> 2135.4497 | F19: =E19/8 -> 266.93121 | G19: =+R19*0.105 -> 2989.6295 | H19: =G19/8 -> 373.70369 | I19: =+R19*1.04 -> 29611.569 | J19: =+I19*0.075 -> 2220.8677 | K19: =I19*8% -> 2368.9255 | L19: =J19*8% -> 177.66941 | M19: =+I19*1.045 -> 30944.089 | N19: =+M19*0.055 -> 1701.9249 | O19: =M19*8% -> 2475.5271 | P19: =N19*8% -> 136.15399 | R19: 28472.662
B20: Deberá realizar toda clase de bolsillos completos.
B21: Hace el bolsillo completo: el que sepa colocar vivos en género y tapas y carteritas de pecho y plaqué todo con máquina recta.(Realiza todas las operaciones).
A22: 2 | B22: OFICIAL CALIFICADO | C22: =+R22*0.05 -> 1341.3085 | D22: =C22/8 -> 167.66356 | E22: =+R22*0.075 -> 2011.9628 | F22: =E22/8 -> 251.49535 | G22: =+R22*0.105 -> 2816.7479 | H22: =G22/8 -> 352.09348 | I22: =+R22*1.04 -> 27899.217 | J22: =+I22*0.075 -> 2092.4413 | K22: =I22*8% -> 2231.9374 | L22: =J22*8% -> 167.3953 | M22: =+I22*1.045 -> 29154.682 | N22: =+M22*0.055 -> 1603.5075 | O22: =M22*8% -> 2332.3745 | P22: =N22*8% -> 128.2806 | R22: 26826.17
B23: Deberá conocer y realizar eventualmente cualquiera de las siguientes tareas:
B24: Hace el bolsillo completo el que sepa colocar vivos en género y tapas y carteritas de pecho y plaqué cuando lo realiza en máquina bolsillera Durkoop o Reece
B25: Carga costados y/o cuello y/o espalda.
B26: Hace ojales militares en máquina común.
B27: Cose centro de espalda en género a cuadro y/u hombros hilvanados y/o mangas hilvanadas y/o susones y/o costadillos y/o aberturas y/o bajos y/o costados.
B28: Enviva costados y/o cuellos y/o delanteros y/o espaldas sin guía.
B29: Hilvana delanteros y/o bajo cuello al escote y/o cuellos pegados.
B30: Pespuntea costados y/o cuellos y/o delanteros y/o bolsillos plaquet colocados.
B31: Cose tapa a cuello suelto.
B32: Hace mangas ranglan y/o aberturas de mangas.
B33: Forra sisas completas.
B34: Encuarta vista a delantero.
... B38: Hace sombreros y/o gorros y/o capuchones en género, para lluvia.
A39: a) | B39: VISTERO | C39: =+R39*0.05 -> 1341.3085 | D39: =C39/8 -> 167.66356 | E39: =+R39*0.075 -> 2011.9628 | F39: =E39/8 -> 251.49535 | G39: =+R39*0.105 -> 2816.7479 | H39: =G39/8 -> 352.09348 | I39: =+R39*1.04 -> 27899.217 | J39: =+I39*0.075 -> 2092.4413 | K39: =I39*8% -> 2231.9374 | L39: =J39*8% -> 167.3953 | M39: =+I39*1.045 -> 29154.682 | N39: =+M39*0.055 -> 1603.5075 | O39: =M39*8% -> 2332.3745 | P39: =N39*8% -> 128.2806 | R39: 26826.17
B40: Deberá conocer y realizar eventualmente cualquiera de las siguientes tareas:
B41: Termina bolsillos en vistas: coloca bolsas, cierra ángulos, coloca presillas y etiquetas y cierra bolsas.
B42: Cose tapa a escote en forro.
B43: Une el forro al género de la vista.
...

Sheet IV (CUATRO)
A1: ITEM | B1: CATEGORIAS | C1: POR DIA | D1: POR HORA | E1: POR DIA | F1: POR HORA | G1: POR DIA | H1: POR HORA | I1: POR DIA | K1: POR HORA | M1: POR DIA | O1: POR HORA | R1: POR DIA
C2: ='I (UNO)'!C2 -> Febrero | E2: Marzo | G2: Abril | I2: ='I (UNO)'!F2 -> Mayo | M2: ='I (UNO)'!H2 -> Junio | R2: 45658
C3: N.R. | D3: N.R. | E3: N.R. | F3: N.R. | G3: N.R. | H3: N.R. | I3: BÁSICO | J3: N.R | K3: BÁSICO | L3: N.R | M3: BÁSICO | N3: N.R | O3: BÁSICO | P3: N.R | R3: BÁSICO
B4: TALLERES DE CONFECCION Y DE MEDIDA EN GRAL. PARA SENORAS Y NIÑOS EN GENERAL DE SACOS, GABANES, TAPADOS, PERRAMUS, PANTALONES, POLLERAS, CHALECOS, PILOTOS, IMPERMEABLES Y UNIFORMES EN GENERAL, VESTIDOS, BLUSAS, SHORTS, BERMUDAS. CUALQUIERA FUERA EL MATERIAL EMPLEADO EN SU CONFECCION.
B5: NOTA: Exceptúase las prendas confeccionadas en materiales previstos en otros capítulos.
B6: ESPECIFICACION DE TAREAS Y SALARIOS PARA TALLER DE SACOS, TAPADOS, GABANES, PERRAMUS, PILOTOS, IMPERMEABLES Y CHALECOS.
B7: TRABAJO A MAQUINA.
A8: 1 | B8: OFICIAL CALIFICADO ESPECIALIZADO | C8: =+R8*0.05 -> 1423.6331 | D8: =C8/8 -> 177.95414 | E8: =+R8*0.075 -> 2135.4497 | F8: =E8/8 -> 266.93121 | G8: =+R8*0.105 -> 2989.6295 | H8: =G8/8 -> 373.70369 | I8: =+R8*1.04 -> 29611.569 | J8: =+I8*0.075 -> 2220.8677 | K8: =I8/8 -> 3701.4461 | L8: =J8/8 -> 277.60846 | M8: =+I8*1.045 -> 30944.089 | N8: =+M8*0.055 -> 1701.9249 | O8: =M8/8 -> 3868.0112 | P8: =N8/8 -> 212.74061 | R8: 28472.662
B9: Deberá conocer y realizar eventualmente cualquiera de las siguientes tareas:
B10: Atracar sisas.
B11: Colocar cuellos sin hilvanar y/o mangas sin hilvanar y/o tapa cuello sin hilvanar en cuello pegado.
B12: Coser canto de delantero colocándole pasamano al mismo tiempo.
B13: Coser hombros en género sin hilvanar y/o mangas hilvanadas colocando el chorizo al mismo tiempo.
B14: Encarta delantero.
B15: Hilvanar sisas.
B16: Hace ojales militares en máquina común.
A17: a) | B17: BOLSILLERO | C17: =+R17*0.05 -> 1423.6331 | D17: =C17/8 -> 177.95414 | E17: =+R17*0.075 -> 2135.4497 | F17: =E17/8 -> 266.93121 | G17: =+R17*0.105 -> 2989.6295 | H17: =G17/8 -> 373.70369 | I17: =+R17*1.04 -> 29611.569 | J17: =+I17*0.075 -> 2220.8677 | K17: =I17/8 -> 3701.4461 | L17: =J17/8 -> 277.60846 | M17: =+I17*1.045 -> 30944.089 | N17: =+M17*0.055 -> 1701.9249 | O17: =M17/8 -> 3868.0112 | P17: =N17/8 -> 212.74061 | R17: 28472.662
B18: Deberá realizar toda clase de bolsillos completos.
B19: Hace el bolsillo completo: el que sepa colocar vivos en género y tapas y carteritas de pecho y plaqué todo con máquina recta. (Realiza todas las operaciones).
B20: Pespunte de vivos en bolsillo delantero.
A21: 2 | B21: OFICIAL CALIFICADO | C21: =+R21*0.05 -> 1341.3085 | D21: =C21/8 -> 167.66356 | E21: =+R21*0.075 -> 2011.9628 | F21: =E21/8 -> 251.49535 | G21: =+R21*0.105 -> 2816.7479 | H21: =G21/8 -> 352.09348 | I21: =+R21*1.04 -> 27899.217 | J21: =+I21*0.075 -> 2092.4413 | K21: =I21/8 -> 3487.4021 | L21: =J21/8 -> 261.55516 | M21: =+I21*1.045 -> 29154.682 | N21: =+M21*0.055 -> 1603.5075 | O21: =M21/8 -> 3644.3352 | P21: =N21/8 -> 200.43844 | R21: 26826.17
B22: Deberá conocer y realizar eventualmente cualquiera de las siguientes tareas:
B23: Carga costados y/o cuello y/o espalda.
B24: Coloca chorizo en manga cosida o suelta y/u hombreras.
B25: Cose centro de espalda en género a cuadro y/u hombros hilvanados y/o mangas hilvanadas y/o susones y/o costadillos y/o aberturas y/o bajos y/o costados.
B26: Enviva costados y/o cuellos y/o delanteros y/o espaldas sin guía.
B27: Hilvana delanteros y/o bajo cuello al escote y/o cuellos pegados.
B28: Pespuntea costados y/o cuellos y/o delanteros y/ bolsillos plaquet colocados.
B29: Cose tapa a cuello suelto.
B30: Hace mangas raglán y/o aberturas de mangas.
B31: Forra sisas completas.
B32: Encuarta vista a delantero.
B33: Hilvana y/o encuarta vista por dentro.
... B37: Hace bolsillo ojal.
A38: a) | B38: VISTERO | C38: =+R38*0.05 -> 1341.3085 | D38: =C38/8 -> 167.66356 | E38: =+R38*0.075 -> 2011.9628 | F38: =E38/8 -> 251.49535 | G38: =+R38*0.105 -> 2816.7479 | H38: =G38/8 -> 352.09348 | I38: =+R38*1.04 -> 27899.217 | J38: =+I38*0.075 -> 2092.4413 | K38: =I38/8 -> 3487.4021 | L38: =J38/8 -> 261.55516 | M38: =+I38*1.045 -> 29154.682 | N38: =+M38*0.055 -> 1603.5075 | O38: =M38/8 -> 3644.3352 | P38: =N38/8 -> 200.43844 | R38: 26826.17
B39: Deberá conocer y realizar eventualmente cualquiera de las siguientes tareas:
B40: Termina bolsillos en vistas: coloca bolsas, cierra ángulos, coloca presillas y etiquetas y cierra bolsas.
B41: Cose tapa a escote en forro.
B42: Une el forro al género de la vista.
B43: Coloca vivos en máquina recta en vista.
...

Sheet V (CINCO)
A1: ITEM | B1: CATEGORIAS | C1: POR DIA | D1: POR HORA | E1: POR DIA | F1: POR HORA | G1: POR DIA | H1: POR HORA | I1: POR DIA | K1: POR HORA | M1: POR DIA | O1: POR HORA | Q1: POR DIA
C2: ='I (UNO)'!C2 -> Febrero | E2: Marzo | G2: Abril | I2: ='I (UNO)'!F2 -> Mayo | M2: ='I (UNO)'!H2 -> Junio | Q2: 45658
C3: N.R. | D3: N.R. | E3: N.R. | F3: N.R. | G3: N.R. | H3: N.R. | I3: BÁSICO | J3: N.R | K3: BÁSICO | L3: N.R | M3: BÁSICO | N3: N.R | O3: BÁSICO | P3: N.R | Q3: BÁSICO
B4: CAMISERIA EN GENERAL, CORBATAS, PIJAMAS, ROBES, ROPA INTERIOR.
A5: 1 | B5: OFICIAL CALIFICADO MULTIPLE | C5: =+Q5*0.05 -> 1396.7651 | D5: =C5/8 -> 174.59564 | E5: =+Q5*0.075 -> 2095.1477 | F5: =E5/8 -> 261.89346 | G5: =+Q5*0.105 -> 2933.2068 | H5: =G5/8 -> 366.65085 | I5: =+Q5*1.04 -> 29052.715 | J5: =+I5*0.075 -> 2178.9536 | K5: =I5/8 -> 3631.5893 | L5: =J5/8 -> 272.3692 | M5: =+I5*1.045 -> 30360.087 | N5: =+M5*0.055 -> 1669.8048 | O5: =M5/8 -> 3795.0108 | P5: =N5/8 -> 208.7256 | Q5: 27935.303
B6: Es el trabajador/a que mantiene una diaria labor de acuerdo al promedio del trabajo realizado, y tomando como base de promedio la producción efectiva y normal de todos los trabajadores/as así calificados, que se dediquen a su especialidad, de acuerdo a la organización particular de cada Casa, maquinaria y tecnología.
B7: Dicha producción no debe ser inferior al promedio del Oficial Calificado y deberá realizar todas las tareas enunciadas en los siguientes incisos, y operar indistintamente varias máquinas.
B8: CAMISERIA:
B9: a) Colocación de: cuello, mangas, puños,
B10: b) Hacer: cuello completo, vistas completas.
B11: PIJAMAS, ROPA INTERIOR:
B12: a) Colocación de: cuellos, cierres en máquina de una aguja sin guía, vivos sin guía, mangas, puños (o hacer).
B13: NOTA: Será también Oficial Calificado Múltiple aquella trabajadora que sepa realizar todas las operaciones y que al realizarlas mantenga una diaria labor de acuerdo al promedio del trabajo realizado, tomando como base de promedio a la producción efectiva y normal de los trabajadores así calificados y a falta de éstos con la de Oficial Calificado.
B14: Esta categorización se hará de acuerdo a los términos del art. 22 del presente CCT.
A15: 2 | B15: OFICIAL CALIFICADO | C15: =+Q15*0.05 -> 1324.1995 | D15: =C15/8 -> 165.52494 | E15: =+Q15*0.075 -> 1986.2992 | F15: =E15/8 -> 248.2874 | G15: =+Q15*0.105 -> 2780.8189 | H15: =G15/8 -> 347.60237 | I15: =+Q15*1.04 -> 27543.349 | J15: =+I15*0.075 -> 2065.7512 | K15: =I15/8 -> 3442.9187 | L15: =J15/8 -> 258.2189 | M15: =+I15*1.045 -> 28782.8 | N15: =+M15*0.055 -> 1583.054 | O15: =M15/8 -> 3597.85 | P15: =N15/8 -> 197.88175 | Q15: 26483.99
B16: Es el trabajador que mantiene una diaria labor de acuerdo al promedio de trabajo realizado, tomando como base de promedio la producción efectiva y normal de todos los trabajadores que se dediquen a su especialidad, de acuerdo a la organización, maquinaria y tecnología de cada Empresa. deberá realizar como mínimo y con la misma máquina, tres de las tareas enunciadas a continuación:
B17: CAMISERIA
B18: a) Colocación de: cuello, canesú, mangas, puños
B19: b) Hacer: cuello completo, puños completos, vistas completas
B20: c) Arreglo de prendas
B21: PIJAMAS Y ROPA INTERIOR
B22: a) Colocación de: cuellos, cierres en máquina de una aguja sin guía, vivos sin guía, mangas, puños.
B23: b) Hacer: puños, bolsillo ojal con máquina de una aguja, pespunte de ornamentos.
B24: c) Ojalado
A25: 3 | B25: OFICIAL | C25: =+Q25*0.05 -> 1231.2496 | D25: =C25/8 -> 153.9062 | E25: =+Q25*0.075 -> 1846.8745 | F25: =E25/8 -> 230.85931 | G25: =+Q25*0.105 -> 2585.6242 | H25: =G25/8 -> 323.20303 | I25: =+Q25*1.04 -> 25609.992 | J25: =+I25*0.075 -> 1920.7494 | K25: =I25/8 -> 3201.2491 | L25: =J25/8 -> 240.09368 | M25: =+I25*1.045 -> 26762.442 | N25: =+M25*0.055 -> 1471.9343 | O25: =M25/8 -> 3345.3053 | P25: =N25/8 -> 183.99179 | Q25: 24624.993
B26: Es el trabajador que mantiene una diaria labor de acuerdo al promedio de trabajo realizado , tomando como base de promedio la producción efectiva y normal de todos los trabajadores que se dediquen a su especialidad, de acuerdo a la organización, maquinaria y tecnología de cada Empresa. Deberá realizar como mínimo y con la misma máquina, una de las tareas enunciadas a continuación:
B27: CAMISERIA
B28: a) Colocación de: cuello, canesú, mangas, puños.
B29: b) Hacer: cuello completo, puños completos, vistas completas.
B30: c) Arreglo de prendas
B31: d) Planchado de vistas o costuras
B32: e) Pegar botones, hacer atraques, marcado de ojales y botones
B33: f) Ojalado
B34: NOTA: El Ojalador que trabaje en máquinas duales percibirá un diez por ciento (10%) más sobre su respectivo salario básico.
B35: El ojalador a mano percibirá un adicional del 20% sobre su respectivo salario básico.
B36: PIJAMAS Y ROPA INTERIOR
B38: a) Colocación de: cuellos, cierres en máquina de una aguja sin guía, vivos sin guía, mangas, puños.
... B45: El ojalador a mano percibirá un adicional del 20% sobre su respectivo salario básico.
A46: 4 | B46: MEDIO OFICIAL | C46: =+Q46*0.05 -> 1171.9519 | D46: =C46/8 -> 146.49399 | E46: =+Q46*0.075 -> 1757.9278 | F46: =E46/8 -> 219.74098 | G46: =+Q46*0.105 -> 2461.099 | H46: =G46/8 -> 307.63737 | I46: =+Q46*1.04 -> 24376.6 | J46: =+I46*0.075 -> 1828.245 | K46: =I46/8 -> 3047.0749 | L46: =J46/8 -> 228.53062 | M46: =+I46*1.045 -> 25473.546 | N46: =+M46*0.055 -> 1401.0451 | O46: =M46/8 -> 3184.1933 | P46: =N46/8 -> 175.13063 | Q46: 23439.038
B47: Es el trabajador cuyo rendimiento mínimo es el setenta por ciento (70%) de la producción del oficial de su especialidad y/o a falta de este último del Oficial Calificado.
...

Sheet VI (SEIS)
A1: ITEM | B1: CATEGORIAS | C1: POR DIA | D1: POR HORA | E1: POR DIA | F1: POR HORA | G1: POR DIA | H1: POR HORA | I1: POR DIA | K1: POR HORA | M1: POR DIA | O1: POR HORA | Q1: POR DIA
C2: ='I (UNO)'!C2 -> Febrero | E2: Marzo | G2: Abril | I2: ='I (UNO)'!F2 -> Mayo | M2: ='I (UNO)'!H2 -> Junio | Q2: 45658
C3: N.R. | D3: N.R. | E3: N.R. | F3: N.R. | G3: N.R. | H3: N.R. | I3: BÁSICO | J3: N.R | K3: BÁSICO | L3: N.R | M3: BÁSICO | N3: N.R | O3: BÁSICO | P3: N.R | Q3: BÁSICO
B4: INDUMENTARIA DE TRABAJO
B5: Especificación de tareas para talleres de Confección de: pantalones, mamelucos, bombachas, jardineros, camperas, camisas, guardapolvos, indumentaria gastronómicos y sanidad en general, gorras, sombreros de tela, capotes, capotitas, indumentaria de seguridad, Indumentaria Antiflama, pasamontañas. Indumentaria para Apicultura.
A6: 1 | B6: OFICIAL CALIFICADO MULTIPLE | C6: =+Q6*0.05 -> 1371.0847 | D6: =C6/8 -> 171.38559 | E6: =+Q6*0.075 -> 2056.627 | F6: =E6/8 -> 257.07838 | G6: =+Q6*0.105 -> 2879.2779 | H6: =G6/8 -> 359.90973 | I6: =+Q6*1.04 -> 28518.562 | J6: =+I6*0.075 -> 2138.8921 | K6: =I6/8 -> 3564.8202 | L6: =J6/8 -> 267.36152 | M6: =+I6*1.045 -> 29801.897 | N6: =+M6*0.055 -> 1639.1043 | O6: =M6/8 -> 3725.2371 | P6: =N6/8 -> 204.88804 | Q6: 27421.694
B7: Es el trabajador que deberá conocer y realizar habitualmente como mínimo 10 de las tareas enunciadas en el inciso 2, Oficial calificado de su respectiva especialidad.
A8: 2 | B8: OFICIAL CALIFICADO | C8: =+Q8*0.05 -> 1292.28 | D8: =C8/8 -> 161.535 | E8: =+Q8*0.075 -> 1938.4199 | F8: =E8/8 -> 242.30249 | G8: =+Q8*0.105 -> 2713.7879 | H8: =G8/8 -> 339.22349 | I8: =+Q8*1.04 -> 26879.423 | J8: =+I8*0.075 -> 2015.9567 | K8: =I8/8 -> 3359.9279 | L8: =J8/8 -> 251.99459 | M8: =+I8*1.045 -> 28088.997 | N8: =+M8*0.055 -> 1544.8948 | O8: =M8/8 -> 3511.1247 | P8: =N8/8 -> 193.11186 | Q8: 25845.599
B9: Es el trabajador que deberá conocer y realizar eventualmente cualquiera de las siguientes operaciones:
B10: coloca mangas y/o cuellos y/o pecheras.
B11: cierra costados con dobladillador.
B12: coloca cintura y/o cierres.
B13: coloca cartera de ojal y/o cartera botón.
B14: cierra traseros y/o entrepiernas con dobladillador.
B15: hace bolsillos en general y coloca ojalillos.
B16: arma mangas y la prenda.
B17: corta bolsillo ojal y pespuntea.
B18: coloca cintura y/o bolsillo con cierre.
B19: pega bolsillo y/o cuello y sobrecose.
B20: pega manga y/o cierre cerrando el delantero.
... B26: pega y sobrecose cuellos y/o puños.
A27: 3 | B27: OFICIAL | C27: =+Q27*0.05 -> 1229.1292 | D27: =C27/8 -> 153.64114 | E27: =+Q27*0.075 -> 1843.6937 | F27: =E27/8 -> 230.46172 | G27: =+Q27*0.105 -> 2581.1712 | H27: =G27/8 -> 322.6464 | I27: =+Q27*1.04 -> 25565.887 | J27: =+I27*0.075 -> 1917.4415 | K27: =I27/8 -> 3195.7358 | L27: =J27/8 -> 239.68019 | M27: =+I27*1.045 -> 26716.351 | N27: =+M27*0.055 -> 1469.3993 | O27: =M27/8 -> 3339.5439 | P27: =N27/8 -> 183.67492 | Q27: 24582.583
B28: Es el trabajador que deberá conocer y realizar eventualmente cualquiera de las siguientes tareas:
B29: atraca carteras y/o bolsillos traseros.
B30: coloca bolsillo plaqué con tablón y bolsillo carpintero.
B31: coloca puños y/o pasacintos y/o botones y/o tachas y/o broches y/o ojalillos y/o vistas y/o vista al forro del bolsillo.
B32: coloca bolsillo reloj y/o carteras y/o carterones y/o bolsillos plaqué simples.
B33: hace y pespuntea cartera.
B34: hace ojales y/o pecheras y/o bolsillos de costado.
B35: hace ruedo del bolsillo.
B36: pespuntea cintura y/o puños y/o presillas y/o tapas.
B37: sobrecose y coloca tapas.
B38: sobrehila cartera de ojal y botón.
B39: une delanteros y atraca.
... B64: arma cuellos, tapas, puños, martingalas y cinturones.
A65: 4 | B65: MEDIO OFICIAL | C65: =+Q65*0.05 -> 1165.9784 | D65: =C65/8 -> 145.74729 | E65: =+Q65*0.075 -> 1748.9675 | F65: =E65/8 -> 218.62094 | G65: =+Q65*0.105 -> 2448.5546 | H65: =G65/8 -> 306.06932 | I65: =+Q65*1.04 -> 24252.35 | J65: =+I65*0.075 -> 1818.9262 | K65: =I65/8 -> 3031.5437 | L65: =J65/8 -> 227.36578 | M65: =+I65*1.045 -> 25343.706 | N65: =+M65*0.055 -> 1393.9038 | O65: =M65/8 -> 3167.9632 | P65: =N65/8 -> 174.23798 | Q65: 23319.567
B66: Es el trabajador que deberá conocer y realizar eventualmente cualquiera de las siguientes tareas:
B67: arma presillas y/o puños o tapas.
B68: arma cuello de costura interna.
B69: coloca etiquetas.
...

Sheet VII (SIETE)
A1: ITEM | B1: CATEGORIAS | C1: POR DIA | D1: POR HORA | E1: POR DIA | F1: POR HORA | G1: POR DIA | H1: POR HORA | I1: POR DIA | K1: POR HORA | M1: POR DIA | O1: POR HORA | Q1: POR DIA
C2: ='I (UNO)'!C2 -> Febrero | E2: Marzo | G2: Abril | I2: ='I (UNO)'!F2 -> Mayo | M2: ='I (UNO)'!H2 -> Junio | Q2: 45658
C3: N.R. | D3: N.R. | E3: N.R. | F3: N.R. | G3: N.R. | H3: N.R. | I3: BÁSICO | J3: N.R | K3: BÁSICO | L3: N.R | M3: BÁSICO | N3: N.R | O3: BÁSICO | P3: N.R | Q3: BÁSICO
B4: INDUMENTARIA DE CUERO EN GENERAL, CUERO GAMUZADO.
A5: 1 | B5: OFICIAL CALIFICADO | C5: =+Q5*0.05 -> 1341.3085 | D5: =C5/8 -> 167.66356 | E5: =+Q5*0.075 -> 2011.9628 | F5: =E5/8 -> 251.49535 | G5: =+Q5*0.105 -> 2816.7479 | H5: =G5/8 -> 352.09348 | I5: =+Q5*1.04 -> 27899.217 | J5: =+I5*0.075 -> 2092.4413 | K5: =I5/8 -> 3487.4021 | L5: =J5/8 -> 261.55516 | M5: =+I5*1.045 -> 29154.682 | N5: =+M5*0.055 -> 1603.5075 | O5: =M5/8 -> 3644.3352 | P5: =N5/8 -> 200.43844 | Q5: 26826.17
B6: Es el que posee conocimientos generales del oficio.
B7: Deberá conocer y realizar cualquiera de las siguientes tareas:
B8: Coloca mangas y vistas y/o todo tipo de bolsillos externos
B9: Hace todo tipo de bolsillos
B10: Pega cuellos
B11: Monta vistas en delantero (cáscara)
B12: Coloca cierres finales en prendas armadas
B13: Hace pespuntes finales en prendas armadas
A14: 2 | B14: OFICIAL | C14: =+Q14*0.05 -> 1234.7715 | D14: =C14/8 -> 154.34644 | E14: =+Q14*0.075 -> 1852.1573 | F14: =E14/8 -> 231.51966 | G14: =+Q14*0.105 -> 2593.0202 | H14: =G14/8 -> 324.12752 | I14: =+Q14*1.04 -> 25683.248 | J14: =+I14*0.075 -> 1926.2436 | K14: =I14/8 -> 3210.406 | L14: =J14/8 -> 240.78045 | M14: =+I14*1.045 -> 26838.994 | N14: =+M14*0.055 -> 1476.1447 | O14: =M14/8 -> 3354.8742 | P14: =N14/8 -> 184.51808 | Q14: 24695.43
B15: Es el que posee conocimientos generales del oficio.
B16: Deberá conocer y realizar cualquiera de las siguientes tareas:
B17: Coloca adornos y/o cierres en autopartes y/o chorizos
B18: Coloca hombreras
B19: Hace pespuntes en autopartes y/o bolsillos internos
B20: Hace cuellos y/u ojales militares y/o pespuntes en general
B21: Une el forro al cuero
B22: Arma costados y hombros (armar cáscara completa)
B23: Hace todo tipo de espaldas
B24: Rasado de napacan
A25: 3 | B25: MEDIO OFICIAL | C25: =+Q25*0.05 -> 1166.9593 | D25: =C25/8 -> 145.86991 | E25: =+Q25*0.075 -> 1750.439 | F25: =E25/8 -> 218.80487 | G25: =+Q25*0.105 -> 2450.6145 | H25: =G25/8 -> 306.32682 | I25: =+Q25*1.04 -> 24272.753 | J25: =+I25*0.075 -> 1820.4565 | K25: =I25/8 -> 3034.0942 | L25: =J25/8 -> 227.55706 | M25: =+I25*1.045 -> 25365.027 | N25: =+M25*0.055 -> 1395.0765 | O25: =M25/8 -> 3170.6284 | P25: =N25/8 -> 174.38456 | Q25: 23339.186
B26: Es el que posee conocimientos generales del oficio.
B27: Deberá conocer y realizar cualquiera de las siguientes tareas:
B28: Arma forro
B29: Cierra aberturas y/o sisas
B30: Hace espaldas y/o mangas
B31: Une todas las costuras internas del cuero
B32: TRABAJO DE MESA Y DE MANO
A33: 4 | B33: OFICIAL DE MESA | C33: =+Q33*0.05 -> 1231.5058 | D33: =C33/8 -> 153.93822 | E33: =+Q33*0.075 -> 1847.2587 | F33: =E33/8 -> 230.90733 | G33: =+Q33*0.105 -> 2586.1621 | H33: =G33/8 -> 323.27027 | I33: =+Q33*1.04 -> 25615.32 | J33: =+I33*0.075 -> 1921.149 | K33: =I33/8 -> 3201.915 | L33: =J33/8 -> 240.14363 | M33: =+I33*1.045 -> 26768.01 | N33: =+M33*0.055 -> 1472.2405 | O33: =M33/8 -> 3346.0012 | P33: =N33/8 -> 184.03007 | Q33: 24630.116
B34: Es el que posee conocimientos generales del oficio.
B35: Deberá conocer y realizar cualquiera de las siguientes tareas:
B36: Cambra cuellos
B37: Hace carteritas y/o cuellos y/o dobladillos en plaqué y/u ojales y/o todo pegado para fusionar
B38: Marca ojales
B39: Prepara bolsillos
B40: Recorta, refina, da vuelta y martilla:
...

Sheet VIII (OCHO)
A1: ITEM | B1: CATEGORIAS | C1: POR DIA | D1: POR HORA | E1: POR DIA | F1: POR HORA | G1: POR DIA | H1: POR HORA | I1: POR DIA | K1: POR HORA | M1: POR DIA | O1: POR HORA | Q1: POR DIA
C2: ='I (UNO)'!C2 -> Febrero | E2: Marzo | G2: Abril | I2: ='I (UNO)'!F2 -> Mayo | M2: ='I (UNO)'!H2 -> Junio | Q2: 45658
C3: N.R. | D3: N.R. | E3: N.R. | F3: N.R. | G3: N.R. | H3: N.R. | I3: BÁSICO | J3: N.R | K3: BÁSICO | L3: N.R | M3: BÁSICO | N3: N.R | O3: BÁSICO | P3: N.R | Q3: BÁSICO
B4: TRABAJO EN TALLERES DE CONFECCION, PANTALONES Y POLLERAS EN TELAS DE JEAN, PANTALONES VAQUEROS, JARDINEROS EN TELAS DE DENIM - BROCKEN - TWILL, CORDEROY Y LONETA Y EN TELAS CON MEZCLA DE ALGODON O LANA. SUAVIZADO Y DESGASTADO.
B5: TRABAJO A MAQUINA
A6: 1 | B6: OFICIAL CALIFICADO. | C6: =+Q6*0.05 -> 1310.7655 | D6: =C6/8 -> 163.84569 | E6: =+Q6*0.075 -> 1966.1482 | F6: =E6/8 -> 245.76853 | G6: =+Q6*0.105 -> 2752.6075 | H6: =G6/8 -> 344.07594 | I6: =+Q6*1.04 -> 27263.922 | J6: =+I6*0.075 -> 2044.7942 | K6: =I6/8 -> 3407.9903 | L6: =J6/8 -> 255.59927 | M6: =+I6*1.045 -> 28490.799 | N6: =+M6*0.055 -> 1566.9939 | O6: =M6/8 -> 3561.3499 | P6: =N6/8 -> 195.87424 | Q6: 26215.31
B7: Es el trabajador que deberá conocer y realizar eventualmente cualquiera de las siguientes tareas:
B8: Cierra trasero y/o costado y/o entrepiernas con o sin dobladillador.
B9: Corta bolsillo con ojal y pespuntea.
B10: Hace pespunte en bolsillo ojal y/o dibujo en cartera izquierda uniendo delanteros y/o bolsillo ojal en máquina automática.
B11: Pega bolsillo trasero o plaqué y/o cintura.
B12: Pespuntea cintura.
A13: 2 | B13: OFICIAL | C13: =+Q13*0.05 -> 1238.544 | D13: =C13/8 -> 154.818 | E13: =+Q13*0.075 -> 1857.816 | F13: =E13/8 -> 232.227 | G13: =+Q13*0.105 -> 2600.9424 | H13: =G13/8 -> 325.1178 | I13: =+Q13*1.04 -> 25761.715 | J13: =+I13*0.075 -> 1932.1286 | K13: =I13/8 -> 3220.2144 | L13: =J13/8 -> 241.51608 | M13: =+I13*1.045 -> 26920.992 | N13: =+M13*0.055 -> 1480.6546 | O13: =M13/8 -> 3365.124 | P13: =N13/8 -> 185.08182 | Q13: 24770.88
B14: Es el trabajador que deberá conocer y realizar eventualmente cualquiera de las siguientes tareas:
B15: Atraca pasacintos, carteras, bolsillo en cualquier parte del pantalón.
B16: Corta cierres a medida.
B17: Cose y/o pespuntea tapitas, presillas y tirillas en general.
B18: Desgrana cierres.
B19: Dobladilla bolsillos delanteros y/o relojeros.
B20: Pega cuero y/o bolsillos relojeros.
B21: Encandalilla o sobrehila delanteros, traseros y carteras.
B22: Hace arreglos y/o bajos y/o dibujos en bolsillos traseros o en cualquier parte de la prenda y/o refuerzos o pespuntes de costados y/u ojales y/o punta de cintura descosiendo y/o dibujo en cartera izquierda sin unir delanteros.
B23: Pega cartera izquierda y/o cartera derecha con cierre uniendo delantero y/o botones de pasta en máquina de costura y/o cuñas o pieza de altura y/o elástico a la cintura y/o a la prenda percalina con vivos.
B24: Pega y pespuntea vista interna en bolsillos delanteros.
B25: Une pechera a cintura.
A26: 3 | B26: MEDIO OFICIAL | C26: =+Q26*0.05 -> 1175.9711 | D26: =C26/8 -> 146.99638 | E26: =+Q26*0.075 -> 1763.9566 | F26: =E26/8 -> 220.49457 | G26: =+Q26*0.105 -> 2469.5392 | H26: =G26/8 -> 308.6924 | I26: =+Q26*1.04 -> 24460.198 | J26: =+I26*0.075 -> 1834.5149 | K26: =I26/8 -> 3057.5248 | L26: =J26/8 -> 229.31436 | M26: =+I26*1.045 -> 25560.907 | N26: =+M26*0.055 -> 1405.8499 | O26: =M26/8 -> 3195.1134 | P26: =N26/8 -> 175.73124 | Q26: 23519.421
B27: Es el trabajador que deberá conocer y realizar eventualmente cualquiera de las siguientes tareas:
B28: Coloca deslizador y/o tope inferior o superior.
B29: Fija bolsillo ojal.
B30: Hace pasacintos y/o pinzas y pliegues y/o dobladillos en bolsillos traseros, relojeros y en general y/u operaciones en impresora en tarjeta de producción y/o etiquetas de cartón o tela.
B31: Pespuntea punta de cintura.
B32: Pega cierre a cartera y/o remaches, broches y tachas y/o bolsillo relojero y/o grifa de talle, fantasías, etiquetas de cartón y etiquetas en general y/o vistas a forro y/o a percalina.
B33: TRABAJO A MANO
A34: 4 | B34: MEDIO OFICIAL | C34: =+Q34*0.05 -> 1175.9711 | D34: =C34/8 -> 146.99638 | E34: =+Q34*0.075 -> 1763.9566 | F34: =E34/8 -> 220.49457 | G34: =+Q34*0.105 -> 2469.5392 | H34: =G34/8 -> 308.6924 | I34: =+Q34*1.04 -> 24460.198 | J34: =+I34*0.075 -> 1834.5149 | K34: =I34/8 -> 3057.5248 | L34: =J34/8 -> 229.31436 | M34: =+I34*1.045 -> 25560.907 | N34: =+M34*0.055 -> 1405.8499 | O34: =M34/8 -> 3195.1134 | P34: =N34/8 -> 175.73124 | Q34: 23519.421
B35: Es el trabajador que deberá conocer y realizar eventualmente cualquiera de las siguientes tareas:
B36: Es el trabajador que realiza tareas de mano y toda otra tarea auxiliar.
B37: Alcanza y reparte paquetes.
B38: Cortadora de hilos en prendas en proceso de producción y final.
B39: Coloca botón, broches, tachas.
B40: Corta pasacintos.
...

Sheet IX (NUEVE)
A1: ITEM | B1: CATEGORIAS | C1: POR DIA | D1: POR HORA | E1: POR DIA | F1: POR HORA | G1: POR DIA | H1: POR HORA | I1: POR DIA | K1: POR HORA | M1: POR DIA | O1: POR HORA | R1: POR DIA
C2: ='I (UNO)'!C2 -> Febrero | E2: Marzo | G2: Abril | I2: ='I (UNO)'!F2 -> Mayo | M2: ='I (UNO)'!H2 -> Junio | R2: 45658
C3: N.R. | D3: N.R. | E3: N.R. | F3: N.R. | G3: N.R. | H3: N.R. | I3: BÁSICO | J3: N.R | K3: BÁSICO | L3: N.R | M3: BÁSICO | N3: N.R | O3: BÁSICO | P3: N.R | R3: BÁSICO
B4: INDUMENTARIA DEPORTIVA
B5: CAMPERAS Y SACONES DE VESTIR Y DEPORTIVOS, EN TELAS DE CASIMIR, POLYESTER, POLYAMIDA, ALGODON, MEZCLAS VARIAS CON O SIN RELLENOS, SHORTS, CARDIGANS, NAUTICOS. INDUMENTARIA ANTIFLAMA EN TELAS ESPECIALES, EQUIPOS DE ALTA MONTAÑA
B6: TRABAJO A MAQUINA
A7: 1 | B7: OFICIAL CALIFICADO (Pasa a Of. Calif. Multi "B" Cap. XVII) | C7: =+R7*0.05 -> 1355.7749 | D7: =C7/8 -> 169.47186 | E7: =+R7*0.075 -> 2033.6623 | F7: =E7/8 -> 254.20779 | G7: =+R7*0.105 -> 2847.1273 | H7: =G7/8 -> 355.89091 | I7: =+R7*1.04 -> 28200.118 | J7: =+I7*0.075 -> 2115.0088 | K7: =I7/8 -> 3525.0147 | L7: =J7/8 -> 264.3761 | M7: =+I7*1.045 -> 29469.123 | N7: =+M7*0.055 -> 1620.8018 | O7: =M7/8 -> 3683.6404 | P7: =N7/8 -> 202.60022 | R7: 27115.498
B8: Es el trabajador que deberá conocer y realizar eventualmente cualquiera de las siguientes tareas:
B9: Armar costados y/o mangas y/o interiores desmontables.
B10: Cerrado completo de interior con exterior.
B11: Cortar bolsillos ojal y pespuntear.
B12: Coloca cintura con o sin elástico.
B13: Hace mangas y/o arreglos y/o capotitas y/o toda clase de bolsillos y tapas.
B14: Pegar canesú y/o toda clase de bolsillos y tapas y/o mangas y/o cierres en delanteros exteriores y/o capotitas y/o puño, cintura, ruedos y mangas y/o solapas cubre cierres en delanteros y/o cuello.
B15: sobrecose.
B16: Pespuntear puño, cintura, ruedos y mangas.
B17: Unir forro y abrigo con el exterior por el cuello y/o recorte de espalda y de delanteros.
A18: 2 | B18: OFICIAL (Pasa a Of. Costura Calif. Cap. XVII) | C18: =+R18*0.05 -> 1256.0916 | D18: =C18/8 -> 157.01145 | E18: =+R18*0.075 -> 1884.1374 | F18: =E18/8 -> 235.51717 | G18: =+R18*0.105 -> 2637.7923 | H18: =G18/8 -> 329.72404 | I18: =+R18*1.04 -> 26126.705 | J18: =+I18*0.075 -> 1959.5029 | K18: =I18/8 -> 3265.8381 | L18: =J18/8 -> 244.93786 | M18: =+I18*1.045 -> 27302.406 | N18: =+M18*0.055 -> 1501.6324 | O18: =M18/8 -> 3412.8008 | P18: =N18/8 -> 187.70404 | R18: 25121.831
B19: Es el trabajador que deberá conocer y realizar eventualmente cualquiera de las siguientes tareas:
B20: Atraques.
B21: Armado completo de interior.
B22: Coloca corderitos y/o matelassé y/o vistas de cuero y/o vistas.
B23: Hace ruedo a abertura de mangas y/o vistas y/o dibujos en vistas y/o puños y cintura en U.
B24: Marcado de tapitas.
B25: Ojalar.
B26: Preparado de pincitas de espalda o delanteros exterior.
B27: Pespuntear cuello, presillas, tapas, mangas y/o ajuste de cintura.
B28: Pegar percalina con vivos a delanteros y/o cierres en parte.
B29: Trabaja con máquina de llenado de prendas con material de Duvet y otros.
B30: Tareas de cierre de llenado ejecutado en máquinas especiales.
B31: Unir hombros.
A32: 3 | B32: MEDIO OFICIAL | C32: =+R32*0.05 -> 1192.1581 | D32: =C32/8 -> 149.01976 | E32: =+R32*0.075 -> 1788.2371 | F32: =E32/8 -> 223.52964 | G32: =+R32*0.105 -> 2503.532 | H32: =G32/8 -> 312.9415 | I32: =+R32*1.04 -> 24796.888 | J32: =+I32*0.075 -> 1859.7666 | K32: =I32/8 -> 3099.611 | L32: =J32/8 -> 232.47083 | M32: =+I32*1.045 -> 25912.748 | N32: =+M32*0.055 -> 1425.2011 | O32: =M32/8 -> 3239.0935 | P32: =N32/8 -> 178.15014 | R32: 23843.162
B33: Es el trabajador que deberá conocer y realizar eventualmente cualquiera de las siguientes tareas:
B34: Ayudante en llenado de prendas con Duvet.
B35: Arma cuello interior, puños, presillas y tapas.
B36: Cerrar bolsas.
B37: Colgantes internos.
B38: Dobladillar bolsillos.
B39: Hacer etiquetas y/o punta de puños y cintura en atraque recto.
B40: Pegar etiquetas y/o vistas a percalina y/o presillas y/o botones, tachas, broches y/o pasador y cordón de ajuste de cintura interior.
...

Sheet X (DIEZ)
A1: ITEM | B1: CATEGORIAS | C1: POR DIA | D1: POR HORA | E1: POR DIA | F1: POR HORA | G1: POR DIA | H1: POR HORA | I1: POR DIA | K1: POR HORA | M1: POR DIA | O1: POR HORA | Q1: POR DIA
C2: ='I (UNO)'!C2 -> Febrero | E2: Marzo | G2: Abril | I2: ='I (UNO)'!F2 -> Mayo | M2: ='I (UNO)'!H2 -> Junio | Q2: 45658
C3: N.R. | D3: N.R. | E3: N.R. | F3: N.R. | G3: N.R. | H3: N.R. | I3: BÁSICO | J3: N.R | K3: BÁSICO | L3: N.R | M3: BÁSICO | N3: N.R | O3: BÁSICO | P3: N.R | Q3: BÁSICO
B4: TALLERES DE CONFECCION Y COSTURA DE BLANCO EN GENERAL, SABANAS, FUNDAS, CARPETAS, MANTELES, PAÑUELOS, SERVILLETAS, REPASADORES Y TOALLAS - MUÑECAS Y ORNAMENTOS. INDUMENTARIA ARTISTICA Y DE COTILLON PARA NIÑOS Y ADULTOS. INDUMENTARIA PARA ANIMALES. (En cualquier tipo de material)
A5: 1 | B5: OFICIAL | C5: =+Q5*0.05 -> 1231.2496 | D5: =C5/8 -> 153.9062 | E5: =+Q5*0.075 -> 1846.8745 | F5: =E5/8 -> 230.85931 | G5: =+Q5*0.105 -> 2585.6242 | H5: =G5/8 -> 323.20303 | I5: =+Q5*1.04 -> 25609.992 | J5: =+I5*0.075 -> 1920.7494 | K5: =I5/8 -> 3201.2491 | L5: =J5/8 -> 240.09368 | M5: =+I5*1.045 -> 26762.442 | N5: =+M5*0.055 -> 1471.9343 | O5: =M5/8 -> 3345.3053 | P5: =N5/8 -> 183.99179 | Q5: 24624.993
A6: 2 | B6: MEDIO OFICIAL | C6: =+Q6*0.05 -> 1174.5153 | D6: =C6/8 -> 146.81442 | E6: =+Q6*0.075 -> 1761.773 | F6: =E6/8 -> 220.22163 | G6: =+Q6*0.105 -> 2466.4822 | H6: =G6/8 -> 308.31028 | I6: =+Q6*1.04 -> 24429.919 | J6: =+I6*0.075 -> 1832.2439 | K6: =I6/8 -> 3053.7399 | L6: =J6/8 -> 229.03049 | M6: =+I6*1.045 -> 25529.265 | N6: =+M6*0.055 -> 1404.1096 | O6: =M6/8 -> 3191.1582 | P6: =N6/8 -> 175.5137 | Q6: 23490.307
B7: TRABAJO DE MANO
A8: 3 | B8: OFICIAL DE MANO | C8: =+Q8*0.05 -> 1231.2496 | D8: =C8/8 -> 153.9062 | E8: =+Q8*0.075 -> 1846.8745 | F8: =E8/8 -> 230.85931 | G8: =+Q8*0.105 -> 2585.6242 | H8: =G8/8 -> 323.20303 | I8: =+Q8*1.04 -> 25609.992 | J8: =+I8*0.075 -> 1920.7494 | K8: =I8/8 -> 3201.2491 | L8: =J8/8 -> 240.09368 | M8: =+I8*1.045 -> 26762.442 | N8: =+M8*0.055 -> 1471.9343 | O8: =M8/8 -> 3345.3053 | P8: =N8/8 -> 183.99179 | Q8: 24624.993
B9: TRABAJO A MAQUINA
A10: 4 | B10: OFICIAL | C10: =+Q10*0.05 -> 1231.2496 | D10: =C10/8 -> 153.9062 | E10: =+Q10*0.075 -> 1846.8745 | F10: =E10/8 -> 230.85931 | G10: =+Q10*0.105 -> 2585.6242 | H10: =G10/8 -> 323.20303 | I10: =+Q10*1.04 -> 25609.992 | J10: =+I10*0.075 -> 1920.7494 | K10: =I10/8 -> 3201.2491 | L10: =J10/8 -> 240.09368 | M10: =+I10*1.045 -> 26762.442 | N10: =+M10*0.055 -> 1471.9343 | O10: =M10/8 -> 3345.3053 | P10: =N10/8 -> 183.99179 | Q10: 24624.993
A11: 5 | B11: MEDIO OFICIAL | C11: =+Q11*0.05 -> 1174.5153 | D11: =C11/8 -> 146.81442 | E11: =+Q11*0.075 -> 1761.773 | F11: =E11/8 -> 220.22163 | G11: =+Q11*0.105 -> 2466.4822 | H11: =G11/8 -> 308.31028 | I11: =+Q11*1.04 -> 24429.919 | J11: =+I11*0.075 -> 1832.2439 | K11: =I11/8 -> 3053.7399 | L11: =J11/8 -> 229.03049 | M11: =+I11*1.045 -> 25529.265 | N11: =+M11*0.055 -> 1404.1096 | O11: =M11/8 -> 3191.1582 | P11: =N11/8 -> 175.5137 | Q11: 23490.307
B12: PLANCHADO A MANO
A13: 6 | B13: OFICIAL | C13: =+Q13*0.05 -> 1231.2496 | D13: =C13/8 -> 153.9062 | E13: =+Q13*0.075 -> 1846.8745 | F13: =E13/8 -> 230.85931 | G13: =+Q13*0.105 -> 2585.6242 | H13: =G13/8 -> 323.20303 | I13: =+Q13*1.04 -> 25609.992 | J13: =+I13*0.075 -> 1920.7494 | K13: =I13/8 -> 3201.2491 | L13: =J13/8 -> 240.09368 | M13: =+I13*1.045 -> 26762.442 | N13: =+M13*0.055 -> 1471.9343 | O13: =M13/8 -> 3345.3053 | P13: =N13/8 -> 183.99179 | Q13: 24624.993
A14: 7 | B14: MEDIO OFICIAL | C14: =+Q14*0.05 -> 1174.5153 | D14: =C14/8 -> 146.81442 | E14: =+Q14*0.075 -> 1761.773 | F14: =E14/8 -> 220.22163 | G14: =+Q14*0.105 -> 2466.4822 | H14: =G14/8 -> 308.31028 | I14: =+Q14*1.04 -> 24429.919 | J14: =+I14*0.075 -> 1832.2439 | K14: =I14/8 -> 3053.7399 | L14: =J14/8 -> 229.03049 | M14: =+I14*1.045 -> 25529.265 | N14: =+M14*0.055 -> 1404.1096 | O14: =M14/8 -> 3191.1582 | P14: =N14/8 -> 175.5137 | Q14: 23490.307
B15: PLANCHADO A MAQUINA
A16: 8 | B16: OFICIAL | C16: =+Q16*0.05 -> 1231.2496 | D16: =C16/8 -> 153.9062 | E16: =+Q16*0.075 -> 1846.8745 | F16: =E16/8 -> 230.85931 | G16: =+Q16*0.105 -> 2585.6242 | H16: =G16/8 -> 323.20303 | I16: =+Q16*1.04 -> 25609.992 | J16: =+I16*0.075 -> 1920.7494 | K16: =I16/8 -> 3201.2491 | L16: =J16/8 -> 240.09368 | M16: =+I16*1.045 -> 26762.442 | N16: =+M16*0.055 -> 1471.9343 | O16: =M16/8 -> 3345.3053 | P16: =N16/8 -> 183.99179 | Q16: 24624.993
A17: 9 | B17: MEDIO OFICIAL | C17: =+Q17*0.05 -> 1174.5153 | D17: =C17/8 -> 146.81442 | E17: =+Q17*0.075 -> 1761.773 | F17: =E17/8 -> 220.22163 | G17: =+Q17*0.105 -> 2466.4822 | H17: =G17/8 -> 308.31028 | I17: =+Q17*1.04 -> 24429.919 | J17: =+I17*0.075 -> 1832.2439 | K17: =I17/8 -> 3053.7399 | L17: =J17/8 -> 229.03049 | M17: =+I17*1.045 -> 25529.265 | N17: =+M17*0.055 -> 1404.1096 | O17: =M17/8 -> 3191.1582 | P17: =N17/8 -> 175.5137 | Q17: 23490.307
B18: CORTADO DE PAñUELOS
A19: 10 | B19: OFICIAL | C19: =+Q19*0.05 -> 1231.2496 | D19: =C19/8 -> 153.9062 | E19: =+Q19*0.075 -> 1846.8745 | F19: =E19/8 -> 230.85931 | G19: =+Q19*0.105 -> 2585.6242 | H19: =G19/8 -> 323.20303 | I19: =+Q19*1.04 -> 25609.992 | J19: =+I19*0.075 -> 1920.7494 | K19: =I19/8 -> 3201.2491 | L19: =J19/8 -> 240.09368 | M19: =+I19*1.045 -> 26762.442 | N19: =+M19*0.055 -> 1471.9343 | O19: =M19/8 -> 3345.3053 | P19: =N19/8 -> 183.99179 | Q19: 24624.993
A20: 11 | B20: MEDIO OFICIAL | C20: =+Q20*0.05 -> 1174.5153 | D20: =C20/8 -> 146.81442 | E20: =+Q20*0.075 -> 1761.773 | F20: =E20/8 -> 220.22163 | G20: =+Q20*0.105 -> 2466.4822 | H20: =G20/8 -> 308.31028 | I20: =+Q20*1.04 -> 24429.919 | J20: =+I20*0.075 -> 1832.2439 | K20: =I20/8 -> 3053.7399 | L20: =J20/8 -> 229.03049 | M20: =+I20*1.045 -> 25529.265 | N20: =+M20*0.055 -> 1404.1096 | O20: =M20/8 -> 3191.1582 | P20: =N20/8 -> 175.5137 | Q20: 23490.307
B21: LAVADEROS Y ALMIDONADORES A MAQUINA
A22: 12 | B22: MEDIO OFICIAL | C22: =+Q22*0.05 -> 1174.5153 | D22: =C22/8 -> 146.81442 | E22: =+Q22*0.075 -> 1761.773 | F22: =E22/8 -> 220.22163 | G22: =+Q22*0.105 -> 2466.4822 | H22: =G22/8 -> 308.31028 | I22: =+Q22*1.04 -> 24429.919 | J22: =+I22*0.075 -> 1832.2439 | K22: =I22/8 -> 3053.7399 | L22: =J22/8 -> 229.03049 | M22: =+I22*1.045 -> 25529.265 | N22: =+M22*0.055 -> 1404.1096 | O22: =M22/8 -> 3191.1582 | P22: =N22/8 -> 175.5137 | Q22: 23490.307
A23: 13 | B23: OFICIAL | C23: =+Q23*0.05 -> 1231.2496 | D23: =C23/8 -> 153.9062 | E23: =+Q23*0.075 -> 1846.8745 | F23: =E23/8 -> 230.85931 | G23: =+Q23*0.105 -> 2585.6242 | H23: =G23/8 -> 323.20303 | I23: =+Q23*1.04 -> 25609.992 | J23: =+I23*0.075 -> 1920.7494 | K23: =I23/8 -> 3201.2491 | L23: =J23/8 -> 240.09368 | M23: =+I23*1.045 -> 26762.442 | N23: =+M23*0.055 -> 1471.9343 | O23: =M23/8 -> 3345.3053 | P23: =N23/8 -> 183.99179 | Q23: 24624.993
B24: LAVADEROS Y ALMIDONADORES DE TIRILLAS Y PECHERAS A MANO
A25: 14 | B25: MEDIO OFICIAL | C25: =+Q25*0.05 -> 1174.5153 | D25: =C25/8 -> 146.81442 | E25: =+Q25*0.075 -> 1761.773 | F25: =E25/8 -> 220.22163 | G25: =+Q25*0.105 -> 2466.4822 | H25: =G25/8 -> 308.31028 | I25: =+Q25*1.04 -> 24429.919 | J25: =+I25*0.075 -> 1832.2439 | K25: =I25/8 -> 3053.7399 | L25: =J25/8 -> 229.03049 | M25: =+I25*1.045 -> 25529.265 | N25: =+M25*0.055 -> 1404.1096 | O25: =M25/8 -> 3191.1582 | P25: =N25/8 -> 175.5137 | Q25: 23490.307
A26: 15 | B26: OFICIAL | C26: =+Q26*0.05 -> 1231.2496 | D26: =C26/8 -> 153.9062 | E26: =+Q26*0.075 -> 1846.8745 | F26: =E26/8 -> 230.85931 | G26: =+Q26*0.105 -> 2585.6242 | H26: =G26/8 -> 323.20303 | I26: =+Q26*1.04 -> 25609.992 | J26: =+I26*0.075 -> 1920.7494 | K26: =I26/8 -> 3201.2491 | L26: =J26/8 -> 240.09368 | M26: =+I26*1.045 -> 26762.442 | N26: =+M26*0.055 -> 1471.9343 | O26: =M26/8 -> 3345.3053 | P26: =N26/8 -> 183.99179 | Q26: 24624.993
B27: ABRILLANTADOR, AFINADOR Y DOBLADOR A VAPOR
A28: 16 | B28: OFICIAL | C28: =+Q28*0.05 -> 1231.2496 | D28: =C28/8 -> 153.9062 | E28: =+Q28*0.075 -> 1846.8745 | F28: =E28/8 -> 230.85931 | G28: =+Q28*0.105 -> 2585.6242 | H28: =G28/8 -> 323.20303 | I28: =+Q28*1.04 -> 25609.992 | J28: =+I28*0.075 -> 1920.7494 | K28: =I28/8 -> 3201.2491 | L28: =J28/8 -> 240.09368 | M28: =+I28*1.045 -> 26762.442 | N28: =+M28*0.055 -> 1471.9343 | O28: =M28/8 -> 3345.3053 | P28: =N28/8 -> 183.99179 | Q28: 24624.993
B29: DOBLADO A MANO
A30: 17 | B30: OFICIAL | C30: =+Q30*0.05 -> 1231.2496 | D30: =C30/8 -> 153.9062 | E30: =+Q30*0.075 -> 1846.8745 | F30: =E30/8 -> 230.85931 | G30: =+Q30*0.105 -> 2585.6242 | H30: =G30/8 -> 323.20303 | I30: =+Q30*1.04 -> 25609.992 | J30: =+I30*0.075 -> 1920.7494 | K30: =I30/8 -> 3201.2491 | L30: =J30/8 -> 240.09368 | M30: =+I30*1.045 -> 26762.442 | N30: =+M30*0.055 -> 1471.9343 | O30: =M30/8 -> 3345.3053 | P30: =N30/8 -> 183.99179 | Q30: 24624.993
B31: ORNAMENTOS, MUÑECAS, ROPA DE MUÑECAS, JUGUETES DE PAÑO O TELA EN GENERAL, MATELASSE Y AFINES. | K31: =I31/8 -> 0 | L31: =J31/8 -> 0
A32: 18 | B32: OFICIAL CALIFICADO | C32: =+Q32*0.05 -> 1320.3212 | D32: =C32/8 -> 165.04015 | E32: =+Q32*0.075 -> 1980.4818 | F32: =E32/8 -> 247.56023 | G32: =+Q32*0.105 -> 2772.6746 | H32: =G32/8 -> 346.58432 | I32: =+Q32*1.04 -> 27462.681 | J32: =+I32*0.075 -> 2059.7011 | K32: =I32/8 -> 3432.8352 | L32: =J32/8 -> 257.46264 | M32: =+I32*1.045 -> 28698.502 | N32: =+M32*0.055 -> 1578.4176 | O32: =M32/8 -> 3587.3127 | P32: =N32/8 -> 197.3022 | Q32: 26406.424
B33: Hace prendas completas.
A34: 19 | B34: OFICIAL DE MAQUINA Y/O MANO | C34: =+Q34*0.05 -> 1231.2496 | D34: =C34/8 -> 153.9062 | E34: =+Q34*0.075 -> 1846.8745 | F34: =E34/8 -> 230.85931 | G34: =+Q34*0.105 -> 2585.6242 | H34: =G34/8 -> 323.20303 | I34: =+Q34*1.04 -> 25609.992 | J34: =+I34*0.075 -> 1920.7494 | K34: =I34/8 -> 3201.2491 | L34: =J34/8 -> 240.09368 | M34: =+I34*1.045 -> 26762.442 | N34: =+M34*0.055 -> 1471.9343 | O34: =M34/8 -> 3345.3053 | P34: =N34/8 -> 183.99179 | Q34: 24624.993
B35: Arma prendas.
B36: Hace costuras a mano.
B37: Sobrecose.
A38: 20 | B38: MEDIO OFICIAL DE MAQUINA Y/O MANO | C38: =+Q38*0.05 -> 1174.5153 | D38: =C38/8 -> 146.81442 | E38: =+Q38*0.075 -> 1761.773 | F38: =E38/8 -> 220.22163 | G38: =+Q38*0.105 -> 2466.4822 | H38: =G38/8 -> 308.31028 | I38: =+Q38*1.04 -> 24429.919 | J38: =+I38*0.075 -> 1832.2439 | K38: =I38/8 -> 3053.7399 | L38: =J38/8 -> 229.03049 | M38: =+I38*1.045 -> 25529.265 | N38: =+M38*0.055 -> 1404.1096 | O38: =M38/8 -> 3191.1582 | P38: =N38/8 -> 175.5137 | Q38: 23490.307
B39: Hace terminaciones.
B40: Pinta ojos.
...

Sheet XI (ONCE)
A1: ITEM | B1: CATEGORIAS | C1: POR DIA | D1: POR HORA | E1: POR DIA | F1: POR HORA | G1: POR DIA | H1: POR HORA | I1: POR DIA | K1: POR HORA | M1: POR DIA | O1: POR HORA | R1: POR DIA
C2: ='I (UNO)'!C2 -> Febrero | E2: Marzo | G2: Abril | I2: ='I (UNO)'!F2 -> Mayo | M2: ='I (UNO)'!H2 -> Junio | R2: 45658
C3: N.R. | D3: N.R. | E3: N.R. | F3: N.R. | G3: N.R. | H3: N.R. | I3: BÁSICO | J3: N.R | K3: BÁSICO | L3: N.R | M3: BÁSICO | N3: N.R | O3: BÁSICO | P3: N.R | R3: BÁSICO
B4: TAPICERIA - GUANTES - PARAGUAS
B5: RAMA TAPICERIA
B6: ARMADO Y COLOCACION
A7: 1 | B7: OFICIAL CALIFICADO | C7: =+R7*0.05 -> 1319.4325 | D7: =C7/8 -> 164.92907 | E7: =+R7*0.075 -> 1979.1488 | F7: =E7/8 -> 247.3936 | G7: =+R7*0.105 -> 2770.8083 | H7: =G7/8 -> 346.35104 | I7: =+R7*1.04 -> 27444.197 | J7: =+I7*0.075 -> 2058.3147 | K7: =I7/8 -> 3430.5246 | L7: =J7/8 -> 257.28934 | M7: =+I7*1.045 -> 28679.186 | N7: =+M7*0.055 -> 1577.3552 | O7: =M7/8 -> 3584.8982 | P7: =N7/8 -> 197.1694 | R7: 26388.651
B8: Es el trabajador que deberá conocer y realizar eventualmente cualquiera de las siguientes tareas:
B9: Arma y coloca bandeaux y cenefas drapeadas sobre cualquier instalación.
B10: Tapiza galerías en capitoné y otras similares.
B11: Coloca toda clase de cortinados y estolas.
B12: Toma medidas y/o saca plantillas y moldes.
B13: Distribuye y asesora a los de categoría inferiores en la organización de los trabajos y concreta con los clientes la solución de los mismos.
B14: Hace fundas para automóviles.
A15: 2 | B15: OFICIAL | C15: =+R15*0.05 -> 1232.1159 | D15: =C15/8 -> 154.01449 | E15: =+R15*0.075 -> 1848.1739 | F15: =E15/8 -> 231.02174 | G15: =+R15*0.105 -> 2587.4435 | H15: =G15/8 -> 323.43043 | I15: =+R15*1.04 -> 25628.011 | J15: =+I15*0.075 -> 1922.1009 | K15: =I15/8 -> 3203.5014 | L15: =J15/8 -> 240.26261 | M15: =+I15*1.045 -> 26781.272 | N15: =+M15*0.055 -> 1472.97 | O15: =M15/8 -> 3347.659 | P15: =N15/8 -> 184.12124 | R15: 24642.319
B16: Es el trabajador que deberá conocer y realizar eventualmente cualquiera de las siguientes tareas:
B17: Coloca cualquier trabajo del ramo.
B18: Tapiza y re tapiza galerías.
A19: 3 | B19: MEDIO OFICIAL | C19: =+R19*0.05 -> 1187.6147 | D19: =C19/8 -> 148.45184 | E19: =+R19*0.075 -> 1781.422 | F19: =E19/8 -> 222.67775 | G19: =+R19*0.105 -> 2493.9908 | H19: =G19/8 -> 311.74886 | I19: =+R19*1.04 -> 24702.386 | J19: =+I19*0.075 -> 1852.6789 | K19: =I19/8 -> 3087.7982 | L19: =J19/8 -> 231.58486 | M19: =+I19*1.045 -> 25813.993 | N19: =+M19*0.055 -> 1419.7696 | O19: =M19/8 -> 3226.7491 | P19: =N19/8 -> 177.4712 | R19: 23752.294
B20: Es el trabajador que deberá conocer y realizar eventualmente cualquiera de las siguientes tareas:
B21: Corta y prepara galerías para tapizarlas, cenefas o bandeaux con recortes stores, cortinados y bandeaux.
B22: Prepara y coloca galerías, cortinados simples y burletes.
B23: Prepara galerías en blanco con su correspondiente juego de tiraje y cordones.
B24: Prepara rieles, caños, varillas y separa los accesorios correspondientes a cada instalación.
B25: COSTURA A MANO O A MAQUINA
A26: 4 | B26: OFICIAL CALIFICADO | C26: =+R26*0.05 -> 1319.4211 | D26: =C26/8 -> 164.92764 | E26: =+R26*0.075 -> 1979.1317 | F26: =E26/8 -> 247.39146 | G26: =+R26*0.105 -> 2770.7844 | H26: =G26/8 -> 346.34804 | I26: =+R26*1.04 -> 27443.959 | J26: =+I26*0.075 -> 2058.2969 | K26: =I26/8 -> 3430.4949 | L26: =J26/8 -> 257.28712 | M26: =+I26*1.045 -> 28678.937 | N26: =+M26*0.055 -> 1577.3416 | O26: =M26/8 -> 3584.8672 | P26: =N26/8 -> 197.1677 | R26: 26388.422
B27: Es el trabajador que deberá conocer y realizar eventualmente cualquiera de las siguientes tareas:
B28: Debe saber hacer toda clase de cenefas, bandeaux, doceles, stores, fundas, colchas, etc. y preparar todos estos trabajos.
B29: Conoce el nombre de las telas, el revés y el derecho de las mismas, sabe cual es el pie del dibujo y sabe calzar los paños.
B30: Arma toda clase de cortinados ya sean con forro, maletín o con flecos a mano o a máquina, indistintamente.
B31: También tiene que aplicar cordones y cintas.
B32: Hace fundas para automóviles y almohadones.
A33: 5 | B33: OFICIAL | C33: =+R33*0.05 -> 1232.1159 | D33: =C33/8 -> 154.01449 | E33: =+R33*0.075 -> 1848.1739 | F33: =E33/8 -> 231.02174 | G33: =+R33*0.105 -> 2587.4435 | H33: =G33/8 -> 323.43043 | I33: =+R33*1.04 -> 25628.011 | J33: =+I33*0.075 -> 1922.1009 | K33: =I33/8 -> 3203.5014 | L33: =J33/8 -> 240.26261 | M33: =+I33*1.045 -> 26781.272 | N33: =+M33*0.055 -> 1472.97 | O33: =M33/8 -> 3347.659 | P33: =N33/8 -> 184.12124 | R33: 24642.319
B34: Es el trabajador que deberá conocer y realizar eventualmente cualquiera de las siguientes tareas:
B35: Confecciona todo trabajo en todas las calidades de telas inclusive colchas, fundas.
B36: Hace cubrecamas y/o acolchados matelassé. Hace mantas en cualquier tipo de tela y medida.
A37: 6 | B37: MEDIO OFICIAL | C37: =+R37*0.05 -> 1187.6147 | D37: =C37/8 -> 148.45184 | E37: =+R37*0.075 -> 1781.422 | F37: =E37/8 -> 222.67775 | G37: =+R37*0.105 -> 2493.9908 | H37: =G37/8 -> 311.74886 | I37: =+R37*1.04 -> 24702.386 | J37: =+I37*0.075 -> 1852.6789 | K37: =I37/8 -> 3087.7982 | L37: =J37/8 -> 231.58486 | M37: =+I37*1.045 -> 25813.993 | N37: =+M37*0.055 -> 1419.7696 | O37: =M37/8 -> 3226.7491 | P37: =N37/8 -> 177.4712 | R37: 23752.294
